BEGIN:VCALENDAR
VERSION:2.0
PRODID:-//DoWeGry - ECPv6.15.20//NONSGML v1.0//EN
CALSCALE:GREGORIAN
METHOD:PUBLISH
X-WR-CALNAME:DoWeGry
X-ORIGINAL-URL:https://dorfwerkstatt-naenikon-greifensee.ch/wp
X-WR-CALDESC:Veranstaltungen im DoWeGry
REFRESH-INTERVAL;VALUE=DURATION:PT1H
X-Robots-Tag:noindex
X-PUBLISHED-TTL:PT1H
BEGIN:VTIMEZONE
TZID:Europe/Zurich
BEGIN:DAYLIGHT
TZOFFSETFROM:+0100
TZOFFSETTO:+0200
TZNAME:CEST
DTSTART:20250330T010000
END:DAYLIGHT
BEGIN:STANDARD
TZOFFSETFROM:+0200
TZOFFSETTO:+0100
TZNAME:CET
DTSTART:20251026T010000
END:STANDARD
BEGIN:DAYLIGHT
TZOFFSETFROM:+0100
TZOFFSETTO:+0200
TZNAME:CEST
DTSTART:20260329T010000
END:DAYLIGHT
BEGIN:STANDARD
TZOFFSETFROM:+0200
TZOFFSETTO:+0100
TZNAME:CET
DTSTART:20261025T010000
END:STANDARD
BEGIN:DAYLIGHT
TZOFFSETFROM:+0100
TZOFFSETTO:+0200
TZNAME:CEST
DTSTART:20270328T010000
END:DAYLIGHT
BEGIN:STANDARD
TZOFFSETFROM:+0200
TZOFFSETTO:+0100
TZNAME:CET
DTSTART:20271031T010000
END:STANDARD
END:VTIMEZONE
BEGIN:VEVENT
DTSTART;TZID=Europe/Zurich:20260509T090000
DTEND;TZID=Europe/Zurich:20260509T130000
DTSTAMP:20260420T135654
CREATED:20260110T114455Z
LAST-MODIFIED:20260110T114455Z
UID:1397-1778317200-1778331600@dorfwerkstatt-naenikon-greifensee.ch
SUMMARY:Repair Café im Couscous am Bahnhof Nänikon-Greifensee
DESCRIPTION:Nach dem Motto «Reparieren statt wegwerfen!» bringen Besucher defekte Gegenstände mit und reparieren sie gemeinsam mit ehrenamtlichen Reparatur-Profis. Werkzeuge können kostenlos genutzt werden. Es wird gemeinsam repariert\, was repariert werden kann – unentgeltlich und in gemütlicher Café-Atmosphäre. Die Stiftung für Konsumentenschutz (SKS) fördert die Repair Cafés: Dem Portemonnaie und der Umwelt zuliebe. \nAn diesem Repair Café können Kleinmöbel\, Velos\, Spielsachen\, Metallgegenstände\, Elektrogeräte\, Handys\, Bücher\, Kleider und Textilien repariert werden. In komplexeren Fällen kann auch versucht werden mit den Reparateuren einen separaten Termin zu vereinbaren. Der Service ist kostenlos. Bitte Ersatzteile\, wenn möglich\, bereits mitbringen. Ansonsten können diese\, falls vorhanden\, zum Einkaufspreis gekauft oder in den nahegelegenen Baugeschäften besorgt werden. \nWir freuen uns auf eure «Patienten»! \nReparaturen werden bis 12.30 Uhr entgegengenommen.
URL:https://dorfwerkstatt-naenikon-greifensee.ch/wp/?tribe_events=repair-cafe-im-couscous-am-bahnhof-naenikon-greifensee-3
END:VEVENT
BEGIN:VEVENT
DTSTART;TZID=Europe/Zurich:20260530T090000
DTEND;TZID=Europe/Zurich:20260530T130000
DTSTAMP:20260420T135654
CREATED:20260110T114739Z
LAST-MODIFIED:20260110T114739Z
UID:1399-1780131600-1780146000@dorfwerkstatt-naenikon-greifensee.ch
SUMMARY:Frühlingsputz im Lager
DESCRIPTION:Auch unsere Werkstatt braucht ab und zu eine «Putzete». Wir laden Dich herzlich ein\, uns dabei zu helfen und unsere Werkstatt & das Lager wieder auf Vordermann zu bringen. Anschliessend gibt es ein gemütliches Zusammensitzen und bei passendem Wetter wird grilliert.
URL:https://dorfwerkstatt-naenikon-greifensee.ch/wp/?tribe_events=fruehlingsputz-im-lager-2
LOCATION:DoWeGry @Konkret\, Schwerzistrasse 60\, 8606 Nänikon\, Switzerland
END:VEVENT
END:VCALENDAR